BEGIN:VCALENDAR
VERSION:2.0
PRODID:-//ChamberMaster//Event Calendar 2.0//EN
METHOD:PUBLISH
X-PUBLISHED-TTL:P3D
REFRESH-INTERVAL:P3D
CALSCALE:GREGORIAN
BEGIN:VEVENT
DTSTART;VALUE=DATE:20230719
DTEND;VALUE=DATE:20230720
TRANSP:TRANSPARENT
X-MICROSOFT-CDO-ALLDAYEVENT:TRUE
SUMMARY:SCC 2nd Quarter Networking Mixer
DESCRIPTION:Join us! For our 2nd Quarter Networking Mixer\n\n\n\nThe highlight of the night will be our thrilling Chamber Trivia game\, offering you the chance to win fantastic prizes. Whether you're a current Chamber member or looking to join in the future\, this is the perfect opportunity to expand your network and discover exciting business prospects. Don't miss out on this incredible event!
X-ALT-DESC;FMTTYPE=text/html:<span style="color:#000000\;"><strong><span class="WdYUQQ text-decoration-none text-strikethrough-none" style="font-style: italic\;">Join us! For our 2nd Quarter Networking Mixer<br />\n<br />\nThe highlight of the night will be our thrilling Chamber Trivia game\, offering you the chance to win fantastic prizes. Whether you&#39\;re a current Chamber member or looking to join in the future\, this is the perfect opportunity to expand your network and discover exciting business prospects. Don&#39\;t miss out on this incredible event!</span></strong></span>
LOCATION:Marianas Business Plaza\, 2nd Floor\, Suite 201-A
UID:e.3549.351
SEQUENCE:3
DTSTAMP:20260423T083013Z
URL:https://business.saipanchamber.com/events/details/scc-2nd-quarter-networking-mixer-351
END:VEVENT

END:VCALENDAR
