BEGIN:VCALENDAR
VERSION:2.0
PRODID:-//ChamberMaster//Event Calendar 2.0//EN
METHOD:PUBLISH
X-PUBLISHED-TTL:P3D
REFRESH-INTERVAL:P3D
CALSCALE:GREGORIAN
BEGIN:VEVENT
DTSTART:20240617T070000Z
DTEND:20240617T080000Z
X-MICROSOFT-CDO-ALLDAYEVENT:FALSE
SUMMARY:June 17\, 2024 SCC Scholarsip Outreach
DESCRIPTION:
X-ALT-DESC;FMTTYPE=text/html:
LOCATION:
UID:e.3549.468
SEQUENCE:3
DTSTAMP:20260424T155607Z
URL:https://business.saipanchamber.com/events/details/june-17-2024-scc-scholarsip-outreach-468
END:VEVENT

END:VCALENDAR
