BEGIN:VCALENDAR
VERSION:2.0
PRODID:-//ChamberMaster//Event Calendar 2.0//EN
METHOD:PUBLISH
X-PUBLISHED-TTL:P3D
REFRESH-INTERVAL:P3D
CALSCALE:GREGORIAN
BEGIN:VEVENT
DTSTART:20260401T010000Z
DTEND:20260401T030000Z
X-MICROSOFT-CDO-ALLDAYEVENT:FALSE
SUMMARY:2026 April General Membership Meeting
DESCRIPTION:This month's theme is "Workforce Development\," featuring a presentation from the Northern Marianas College Center for Training and Innovation (CTI) on programs supporting workforce growth and professional development in the CNMI.\n\n\n\nFollowing the workforce theme\, we will also be having Exhibitor Tables\, which are Island Training Solutions\, Northern Marianas College\, and NMTech. Don't miss this chance to network\, hear Chamber updates\, and engage with fellow members. We look forward to seeing you there!
X-ALT-DESC;FMTTYPE=text/html:<p data-end="430" data-start="77">This month&rsquo\;s theme is &ldquo\;Workforce Development\,&rdquo\; featuring a presentation from the Northern Marianas College Center for Training and Innovation (CTI) on programs supporting workforce growth and professional development in the CNMI.<br />\n<br />\nFollowing the workforce theme\, we will&nbsp\;also be having&nbsp\;Exhibitor Tables\, which are Island Training Solutions\, Northern Marianas College\, and NMTech. Don&rsquo\;t miss this chance to network\, hear Chamber updates\, and engage with fellow members. We look forward to seeing you there!</p>\n
LOCATION:Hibiscus Hall\, Crowne Plaza
UID:e.3549.511
SEQUENCE:3
DTSTAMP:20260421T130938Z
URL:https://business.saipanchamber.com/events/details/2026-april-general-membership-meeting-511
END:VEVENT

END:VCALENDAR
