BEGIN:VCALENDAR
VERSION:2.0
PRODID:-//ChamberMaster//Event Calendar 2.0//EN
METHOD:PUBLISH
X-PUBLISHED-TTL:P3D
REFRESH-INTERVAL:P3D
CALSCALE:GREGORIAN
BEGIN:VEVENT
DTSTART;VALUE=DATE:20240917
DTEND;VALUE=DATE:20240918
TRANSP:TRANSPARENT
X-MICROSOFT-CDO-ALLDAYEVENT:TRUE
SUMMARY:2024 US Delegate of the CNMI Debate
DESCRIPTION:The "US Delegate of the CNMI" Debate is just 3 days away! Get your tickets today at the Saipan Chamber of Commerce\, 2nd Floor\, Suite 201-A. Chamber members can reserve their seats by clicking the RSVP button below. Don't miss out!
X-ALT-DESC;FMTTYPE=text/html:The &quot\;US Delegate of the CNMI&quot\; Debate is just 3 days away! Get your tickets today at the Saipan Chamber of Commerce\, 2nd Floor\, Suite 201-A. Chamber members can reserve their seats by clicking the RSVP button below. Don&rsquo\;t miss out!
LOCATION:Multi-Purpose\, Susupe
UID:e.3549.479
SEQUENCE:3
DTSTAMP:20260425T001057Z
URL:https://business.saipanchamber.com/events/details/2024-us-delegate-of-the-cnmi-debate-479
END:VEVENT

END:VCALENDAR
