BEGIN:VCALENDAR
VERSION:2.0
PRODID:-//ChamberMaster//Event Calendar 2.0//EN
METHOD:PUBLISH
X-PUBLISHED-TTL:P3D
REFRESH-INTERVAL:P3D
CALSCALE:GREGORIAN
BEGIN:VEVENT
DTSTART:20241204T013000Z
DTEND:20241204T030000Z
X-MICROSOFT-CDO-ALLDAYEVENT:FALSE
SUMMARY:2024 December General Membership Meeting
DESCRIPTION:Join us for an engaging December General Membership Meeting (GMM) on Wednesday\, December 04\, 2024\, from 11:30 AM to 1:30 PM at Taga Hall\, World Resort Saipan.\n\nThis meeting will feature updates from our Chamber Committees and a Special Guest presentation by U.S. Delegate of the NMI Elect\, Kimberlyn King-Hinds.\n\nDon't miss this opportunity to connect with local leaders and stay up-to-date on community initiatives. We look forward to seeing you there!\n\nThank you\, Si Yu'us Ma' si' yan Ghilisow\, from your Chamber Familia!
X-ALT-DESC;FMTTYPE=text/html:<div class="mn-statusupdate-body" style="outline: 0px\; margin: 0px\; padding: 0px\; border: 0px\; vertical-align: baseline\; background-image: initial\; background-position: initial\; background-size: initial\; background-repeat: initial\; background-attachment: initial\; background-origin: initial\; background-clip: initial\;">\n<div class="mn-statusupdate-name" style="outline: 0px\; margin: 0px 0px 15px\; padding: 0px\; border: 0px\; vertical-align: baseline\; background: transparent\; overflow-wrap: break-word\;">\n<p>Join us for an engaging December General Membership Meeting (GMM) on Wednesday\, December 04\,&nbsp\;2024\, from 11:30 AM to 1:30 PM at Taga Hall\, World Resort Saipan.</p>\n\n<p>This meeting will feature updates from our Chamber Committees&nbsp\;and a Special Guest&nbsp\;presentation by U.S. Delegate of the NMI Elect\, Kimberlyn King-Hinds.</p>\n\n<p>Don&rsquo\;t miss this opportunity to connect with local leaders and stay up-to-date on community initiatives. We look forward to seeing you there!</p>\n\n<p>Thank you\, Si Yu&rsquo\;us Ma&rsquo\;&aring\;si&rsquo\; yan Ghilisow\, from your Chamber Familia!</p>\n</div>\n</div>\n
LOCATION:Taga Hall\, World Resort
UID:e.3549.482
SEQUENCE:3
DTSTAMP:20260425T042021Z
URL:https://business.saipanchamber.com/events/details/2024-december-general-membership-meeting-482
END:VEVENT

END:VCALENDAR
