BEGIN:VCALENDAR
VERSION:2.0
PRODID:-//ChamberMaster//Event Calendar 2.0//EN
METHOD:PUBLISH
X-PUBLISHED-TTL:P3D
REFRESH-INTERVAL:P3D
CALSCALE:GREGORIAN
BEGIN:VEVENT
DTSTART:20240807T013000Z
DTEND:20240807T030000Z
X-MICROSOFT-CDO-ALLDAYEVENT:FALSE
SUMMARY:2024 August General Membership Meeting
DESCRIPTION:Join us for an exciting August General Membership Meeting (GMM) on Wednesday\, August 2024\, from 11:30 am to 1:30 pm at the Charley's Room\, Pacific Island's Club.\n\n\n\nThank you\, Si Yu'us Ma' si' yan Ghilisow from your Chamber Familia!
X-ALT-DESC;FMTTYPE=text/html:<div class="mn-statusupdate-body" style="outline: 0px\; margin: 0px\; padding: 0px\; border: 0px\; vertical-align: baseline\; background-image: initial\; background-position: initial\; background-size: initial\; background-repeat: initial\; background-attachment: initial\; background-origin: initial\; background-clip: initial\;">\n<div class="mn-statusupdate-name" style="outline: 0px\; margin: 0px 0px 15px\; padding: 0px\; border: 0px\; vertical-align: baseline\; background: transparent\; overflow-wrap: break-word\;">\n<p style="margin: 0px\; padding: 0px\; font-size: 14px\;"><span style="color:#000000\;">Join us for an exciting August General Membership Meeting (GMM) on Wednesday\, August 2024\, from 11:30 am to 1:30 pm at the Charley&#39\;s Room\, Pacific Island&#39\;s Club.<br />\n<br />\nThank you\, Si Yu&#39\;us Ma&#39\;&aring\;si&#39\; yan Ghilisow from your Chamber Familia!</span></p>\n</div>\n</div>\n
LOCATION:Charley's Room\, Pacific Island's Club
UID:e.3549.472
SEQUENCE:3
DTSTAMP:20260424T230523Z
URL:https://business.saipanchamber.com/events/details/2024-august-general-membership-meeting-472
END:VEVENT

END:VCALENDAR
