BEGIN:VCALENDAR
VERSION:2.0
PRODID:-//ChamberMaster//Event Calendar 2.0//EN
METHOD:PUBLISH
X-PUBLISHED-TTL:P3D
REFRESH-INTERVAL:P3D
CALSCALE:GREGORIAN
BEGIN:VEVENT
DTSTART:20240829T223000Z
DTEND:20240830T070000Z
X-MICROSOFT-CDO-ALLDAYEVENT:FALSE
SUMMARY:2024 3rd Quarter Professional Development Training: Strategic Leadership & Effective Management
DESCRIPTION:This session provides actionable insights and practical strategies for effective team\n\nmanagement\, covering key aspects such as communication\, conflict resolution\, and\n\nstrategic leadership. Participants will elevate managerial skills in just half a day\,\n\nensuring immediate impact in their professional role.
X-ALT-DESC;FMTTYPE=text/html:This session provides actionable insights and practical strategies for effective team<br />\nmanagement\, covering key aspects such as communication\, conflict resolution\, and<br />\nstrategic leadership. Participants will elevate managerial skills in just half a day\,<br />\nensuring immediate impact in their professional role.
LOCATION:Northern Marianas College Campus V-217
UID:e.3549.473
SEQUENCE:3
DTSTAMP:20260424T224721Z
URL:https://business.saipanchamber.com/events/details/2024-3rd-quarter-professional-development-training-strategic-leadership-effective-management-473
END:VEVENT

END:VCALENDAR
