BEGIN:VCALENDAR
VERSION:2.0
PRODID:-//ChamberMaster//Event Calendar 2.0//EN
METHOD:PUBLISH
X-PUBLISHED-TTL:P3D
REFRESH-INTERVAL:P3D
CALSCALE:GREGORIAN
BEGIN:VEVENT
DTSTART;VALUE=DATE:20240924
DTEND;VALUE=DATE:20240925
TRANSP:TRANSPARENT
X-MICROSOFT-CDO-ALLDAYEVENT:TRUE
SUMMARY:2024 3rd Quarter Professional Development Training: Emotional Intelligence
DESCRIPTION:We at SCC encourages our Chamber Members and future Chamber Members to join us for our 3rd Quarter Professional Development Training Seminar! Expand your knowledge and skills with our latest training session. Let us help you stay ahead of the game.\n\n\n\nImprove employee retention and morale by using these emotional intelligence skills to help your staff be a better team. These skills help your staff become more effective and provide a foundation for professional advancement. Emotional intelligence is an important skill to teach all staff to help make the workplace and customer experience as pleasant as possible even in the most stressful times.\n\n\n\nIn this training you will learn: \n\n	Understand how your words and actions affect other people including coworkers and customers.\n	Understand how other peoples words and action affect you.\n	Be more empathetic to others.\n	Become a self-motivator and an example to others.\n	Improve your professional and social awareness.\n\nHelp improve your leadership skills and enhance your workplace relationship with our upcoming 3rd Quarter Professional Development training seminar on Emotional Intelligence.\n\nJoin us and enroll now!
X-ALT-DESC;FMTTYPE=text/html:We at SCC encourages our Chamber Members and future Chamber Members to join us for our 3rd Quarter Professional Development Training Seminar! Expand your knowledge and skills with our latest training session. Let us help you stay ahead of the game.<br />\n<br />\nImprove employee retention and morale by using these emotional intelligence skills to help your staff be a better team.&nbsp\;These skills help your staff become more effective and provide a foundation for professional&nbsp\;advancement. Emotional intelligence is an important skill to teach all staff to help make the workplace and customer&nbsp\;experience as pleasant as possible even in the most stressful times.<br />\n<br />\nIn this training you will learn:&nbsp\;\n<ul>\n	<li><em>Understand how your words and actions affect other people including coworkers and customers.</em></li>\n	<li><em>Understand how other peoples words and action affect you.</em></li>\n	<li><em>Be more empathetic to others.</em></li>\n	<li><em>Become a self-motivator and an example to others.</em></li>\n	<li><em>Improve your professional and social awareness.</em></li>\n</ul>\nHelp improve your leadership skills and enhance your workplace relationship with our upcoming 3rd Quarter Professional Development training seminar on Emotional Intelligence.<br />\nJoin us and enroll now!<br />\n<br />\n&nbsp\;
LOCATION:Marianas Business Plaza 6th Floor\, Room 604.
UID:e.3549.474
SEQUENCE:3
DTSTAMP:20260425T001015Z
URL:https://business.saipanchamber.com/events/details/2024-3rd-quarter-professional-development-training-emotional-intelligence-09-24-2024-474
END:VEVENT

END:VCALENDAR
