BEGIN:VCALENDAR
VERSION:2.0
PRODID:-//ChamberMaster//Event Calendar 2.0//EN
METHOD:PUBLISH
X-PUBLISHED-TTL:P3D
REFRESH-INTERVAL:P3D
CALSCALE:GREGORIAN
BEGIN:VEVENT
DTSTART:20240228T230000Z
DTEND:20240229T020000Z
X-MICROSOFT-CDO-ALLDAYEVENT:FALSE
SUMMARY:2024 1st Quarter Professional Development Training: Teamwork & Team Building
DESCRIPTION:Register today for a journey of professional growth with our 1st Quarter Professional Development Training focused on Team Building and Teamwork facilitated by Jim Arenovski of Island Training Solutions. \n\n \n\nFrom nailing first impressions during onboarding to aligning your team with the company's mission in 'Mission Possible\,' we've got you covered. Set clear goals with our Team Aspiration Exercise\, and learn practical tips for meeting expectations\, coaching for improvement\, and building a great team. Simplify communication for maximum impact. \n\n \n\nThank you\, Si Yu'us Ma' si' yan Ghilisow from your Chamber Familia!
X-ALT-DESC;FMTTYPE=text/html:<div class="mn-statusupdate-body" style="outline: 0px\; margin: 0px\; padding: 0px\; border: 0px\; vertical-align: baseline\; background-image: initial\; background-position: initial\; background-size: initial\; background-repeat: initial\; background-attachment: initial\; background-origin: initial\; background-clip: initial\;">\n<div class="mn-statusupdate-name" style="outline: 0px\; margin: 0px 0px 15px\; padding: 0px\; border: 0px\; vertical-align: baseline\; background: transparent\; overflow-wrap: break-word\;">\n<p style="margin: 0px\; padding: 0px\; color: rgb(29\, 29\, 29)\; font-family: Tahoma\, Geneva\, sans-serif\; font-size: 16px\; white-space-collapse: preserve\;"><span style="font-size:14px\;"><span style="font-family:tahoma\;">Register today for a journey of professional growth with our 1st Quarter Professional Development Training focused on Team Building and Teamwork facilitated by Jim Arenovski of Island Training Solutions. </span></span></p>\n\n<p style="margin: 0px\; padding: 0px\; color: rgb(29\, 29\, 29)\; font-family: Tahoma\, Geneva\, sans-serif\; font-size: 16px\; white-space-collapse: preserve\;">&nbsp\;</p>\n\n<p style="margin: 0px\; padding: 0px\; color: rgb(29\, 29\, 29)\; font-family: Tahoma\, Geneva\, sans-serif\; font-size: 16px\; white-space-collapse: preserve\;"><span style="font-size:14px\;"><span style="font-family:tahoma\;">From nailing first impressions during onboarding to aligning your team with the company&#39\;s mission in &#39\;Mission Possible\,&#39\; we&#39\;ve got you covered. Set clear goals with our Team Aspiration Exercise\, and learn practical tips for meeting expectations\, coaching for improvement\, and building a great team. Simplify communication for maximum impact. </span></span></p>\n\n<p style="margin: 0px\; padding: 0px\; color: rgb(73\, 73\, 73)\; font-family: Tahoma\, Geneva\, sans-serif\; font-size: 14px\;">&nbsp\;</p>\n\n<p style="margin: 0px\; padding: 0px\; color: rgb(73\, 73\, 73)\; font-family: Tahoma\, Geneva\, sans-serif\; font-size: 14px\; white-space-collapse: preserve\;"><span style="font-size:14px\;"><span style="font-family:tahoma\;"><span style="color:#000000\;">Thank you\, Si Yu&#39\;us Ma&#39\;&aring\;si&#39\; yan Ghilisow from your Chamber Familia!</span></span></span></p>\n</div>\n</div>\n
LOCATION:Marianas Business Plaza\, 6 Floor\, Suite 604
UID:e.3549.378
SEQUENCE:3
DTSTAMP:20260424T112702Z
URL:https://business.saipanchamber.com/events/details/2024-1st-quarter-professional-development-training-teamwork-team-building-378
END:VEVENT

END:VCALENDAR
