BEGIN:VCALENDAR
VERSION:2.0
PRODID:-//ChamberMaster//Event Calendar 2.0//EN
METHOD:PUBLISH
X-PUBLISHED-TTL:P3D
REFRESH-INTERVAL:P3D
CALSCALE:GREGORIAN
BEGIN:VEVENT
DTSTART:20230906T013000Z
DTEND:20230906T033000Z
X-MICROSOFT-CDO-ALLDAYEVENT:FALSE
SUMMARY:2023 September General Membership Meeting
DESCRIPTION:Join us on Wednesday\, September 6\, 2023\, from 11:30 AM to 1:30 PM at the Queen's Hall\, Kensington Hotel Saipan\, for a meeting that promises knowledge\, connection\, and community enrichment.\n\n \n\nExecutive Director Susan Satur from the Center of Living Independently (CLI) will provide a comprehensive overview of CLI programs\, services\, and the challenges faced by the disability community.\n\n \n\nSecretary Ray Yumul from the Department of Public Works (DPW) will share the latest updates on the highly anticipated Beach Road Improvement Project. Get firsthand knowledge about the progress and future plans that will shape our local infrastructure.\n\n \n\nSenior Civil Engineer Mariano Iglecias from the Office of Planning & Development (OPD) will share updates on the Garapan Revitalization Project\, continuing the conversation started by former OPD Director Chris Concepcion in our 2022 September GMM. Learn about the transformation that's underway to revitalize our vibrant community. You can catch up on last year's presentation by Chris Concepcion about the Garapan Revitalization Project. Click the link here to view the presentation and get a deeper understanding of the developments.\n\n \n\nDon't miss this opportunity to connect\, learn\, and contribute to our community's growth. Register now and secure your spot for an eventful afternoon of insights and inspiration!\n\n\n\nTo view the meeting agenda\, please click here.
X-ALT-DESC;FMTTYPE=text/html:<div class="mn-statusupdate-body" style="outline: 0px\; margin: 0px\; padding: 0px\; border: 0px\; vertical-align: baseline\; background-image: initial\; background-position: initial\; background-size: initial\; background-repeat: initial\; background-attachment: initial\; background-origin: initial\; background-clip: initial\;">\n<div class="mn-statusupdate-name" style="outline: 0px\; margin: 0px 0px 15px\; padding: 0px\; border: 0px\; vertical-align: baseline\; background: transparent\; overflow-wrap: break-word\;">\n<p style="margin: 0px\; padding: 0px\; color: rgb(73\, 73\, 73)\; font-family: Tahoma\, Geneva\, sans-serif\; font-size: 14px\;">&nbsp\;</p>\n\n<p style="margin: 0px\; padding: 0px\; color: rgb(73\, 73\, 73)\; font-family: Tahoma\, Geneva\, sans-serif\; font-size: 14px\;">&nbsp\;</p>\n\n<p align="justify" style="margin: 0px\; padding: 0px\; color: rgb(73\, 73\, 73)\; font-family: Tahoma\, Geneva\, sans-serif\; font-size: 14px\; text-align: justify\;"><span style="font-size: 10px\; color: rgb(29\, 29\, 29)\;">Join us on&nbsp\;</span><span style="font-size: 10px\; color: rgb(29\, 29\, 29)\; font-weight: bold\;">Wednesday\, September 6\, 2023\, from 11:30 AM to 1:30 PM&nbsp\;</span><span style="font-size: 10px\; color: rgb(29\, 29\, 29)\;">at the&nbsp\;</span><span style="font-size: 10px\; color: rgb(29\, 29\, 29)\; font-weight: bold\;">Queen&#39\;s Hall\, Kensington Hotel Saipan\,</span><span style="font-size: 10px\; color: rgb(29\, 29\, 29)\;">&nbsp\;for a meeting that promises knowledge\, connection\, and community enrichment.</span></p>\n\n<p align="justify" style="margin: 0px\; padding: 0px\; color: rgb(73\, 73\, 73)\; font-family: Tahoma\, Geneva\, sans-serif\; font-size: 14px\; text-align: justify\;">&nbsp\;</p>\n\n<p align="justify" style="margin: 0px\; padding: 0px\; color: rgb(73\, 73\, 73)\; font-family: Tahoma\, Geneva\, sans-serif\; font-size: 14px\; text-align: justify\;"><span style="font-size: 10px\; color: rgb(29\, 29\, 29)\;">Executive Director Susan Satur from the Center of Living Independently (CLI) will provide a comprehensive overview of CLI programs\, services\, and the challenges faced by the disability community.</span></p>\n\n<p align="justify" style="margin: 0px\; padding: 0px\; color: rgb(73\, 73\, 73)\; font-family: Tahoma\, Geneva\, sans-serif\; font-size: 14px\; text-align: justify\;">&nbsp\;</p>\n\n<p align="justify" style="margin: 0px\; padding: 0px\; color: rgb(73\, 73\, 73)\; font-family: Tahoma\, Geneva\, sans-serif\; font-size: 14px\; text-align: justify\;"><span style="font-size: 10px\; color: rgb(29\, 29\, 29)\;">Secretary Ray Yumul from the Department of Public Works (DPW) will share the latest updates on the highly anticipated Beach Road Improvement Project. Get firsthand knowledge about the progress and future plans that will shape our local infrastructure.</span></p>\n\n<p align="justify" style="margin: 0px\; padding: 0px\; color: rgb(73\, 73\, 73)\; font-family: Tahoma\, Geneva\, sans-serif\; font-size: 14px\; text-align: justify\;">&nbsp\;</p>\n\n<p align="justify" style="margin: 0px\; padding: 0px\; color: rgb(73\, 73\, 73)\; font-family: Tahoma\, Geneva\, sans-serif\; font-size: 14px\; text-align: justify\;"><span style="font-size: 10px\; color: rgb(29\, 29\, 29)\;">Senior Civil Engineer Mariano Iglecias from the Office of Planning &amp\; Development (OPD) will share updates on the Garapan Revitalization Project\, continuing the conversation started by former OPD Director Chris Concepcion in our 2022 September GMM. Learn about the transformation that&#39\;s underway to revitalize our vibrant community. You can catch up on last year&#39\;s presentation by Chris Concepcion about the Garapan Revitalization Project. Click the link&nbsp\;</span><a href="https://docs.google.com/presentation/d/1mRGnBOFNdLMNgvnjwViEg1fVLmIQi0Z1vqYWmFDUzUY/edit?usp=sharing" style="font-size: 10px\; color: rgb(40\, 79\, 161)\; font-weight: bold\;" target="_blank">here</a><span style="color: rgb(40\, 79\, 161)\; font-weight: bold\; font-size: 10px\;">&nbsp\;</span><span style="color: rgb(29\, 29\, 29)\; font-size: 10px\;">to view the presentation and get a deeper understanding of the developments.</span></p>\n\n<p align="justify" style="margin: 0px\; padding: 0px\; color: rgb(73\, 73\, 73)\; font-family: Tahoma\, Geneva\, sans-serif\; font-size: 14px\; text-align: justify\;">&nbsp\;</p>\n\n<p align="justify" style="margin: 0px\; padding: 0px\; color: rgb(73\, 73\, 73)\; font-family: Tahoma\, Geneva\, sans-serif\; font-size: 14px\; text-align: justify\;"><span style="font-size: 10px\; color: rgb(29\, 29\, 29)\;">Don&#39\;t miss this opportunity to connect\, learn\, and contribute to our community&#39\;s growth. Register now and secure your spot for an eventful afternoon of insights and inspiration!</span></p>\n\n<p style="margin: 0px\; padding: 0px\; color: rgb(73\, 73\, 73)\; font-family: Tahoma\, Geneva\, sans-serif\; font-size: 14px\; white-space-collapse: preserve\; text-align: center\;"><br />\n<span style="font-size:18px\;">To view the meeting agenda\, please click <strong><a href="https://chambermaster.blob.core.windows.net/userfiles/UserFiles/chambers/3549/File/September.pdf">here</a></strong>.</span></p>\n</div>\n</div>\n
LOCATION:Queens Hall\, Kensington Hotel
UID:e.3549.368
SEQUENCE:3
DTSTAMP:20260424T000003Z
URL:https://business.saipanchamber.com/events/details/2023-september-general-membership-meeting-368
END:VEVENT

END:VCALENDAR
