BEGIN:VCALENDAR
VERSION:2.0
PRODID:-//ChamberMaster//Event Calendar 2.0//EN
METHOD:PUBLISH
X-PUBLISHED-TTL:P3D
REFRESH-INTERVAL:P3D
CALSCALE:GREGORIAN
BEGIN:VEVENT
DTSTART:20231004T013000Z
DTEND:20231004T033000Z
X-MICROSOFT-CDO-ALLDAYEVENT:FALSE
SUMMARY:2023 October General Membership Meeting
DESCRIPTION:Join us for our October General Membership Meeting! On Wednesday\, October 4th\, from 11:30 AM to 1:30 PM at the Hyatt Regency Ballroom\, we have an exciting agenda in store.\n\n\n\nWe'll be unveiling our scholarship recipients\, sharing Chamber Committee updates\, launching our Annual Toys for Tots Campaign\, and featuring a captivating presentation by Roman Tudela\, MBA\, Marketing Manager & Outreach Specialist from the CNMI Small Business Development Center (SBDC) Network.\n\n\n\nDon't miss out on this informative and inspiring event! See you there!\n\n\n\nClick Here to View October GMM Agenda
X-ALT-DESC;FMTTYPE=text/html:<div class="mn-statusupdate-body" style="outline: 0px\; margin: 0px\; padding: 0px\; border: 0px\; vertical-align: baseline\; background-image: initial\; background-position: initial\; background-size: initial\; background-repeat: initial\; background-attachment: initial\; background-origin: initial\; background-clip: initial\;">\n<div class="mn-statusupdate-name" style="outline: 0px\; margin: 0px 0px 15px\; padding: 0px\; border: 0px\; vertical-align: baseline\; background: transparent\; overflow-wrap: break-word\;">\n<p style="margin: 0px\; padding: 0px\; color: rgb(73\, 73\, 73)\; font-family: Tahoma\, Geneva\, sans-serif\; font-size: 14px\;">Join us for our October General Membership Meeting! On Wednesday\, October 4th\, from 11:30 AM to 1:30 PM at the Hyatt Regency Ballroom\, we have an exciting agenda in store.<br />\n<br />\nWe&#39\;ll be unveiling our scholarship recipients\, sharing Chamber Committee updates\, launching our Annual Toys for Tots Campaign\, and featuring a captivating presentation by Roman Tudela\, MBA\, Marketing Manager &amp\; Outreach Specialist from the CNMI Small Business Development Center (SBDC) Network.<br />\n<br />\nDon&#39\;t miss out on this informative and inspiring event! See you there!<br />\n<br />\n<a href="https://drive.google.com/file/d/1rHTrSLo3hHA4Fz91e9LLiAWcCAb7nY4P/view?usp=sharing">Click Here to View October GMM Agenda</a></p>\n</div>\n</div>\n
LOCATION:Hyatt Ballroom\, Hyatt Regency Saipan
UID:e.3549.369
SEQUENCE:3
DTSTAMP:20260424T051940Z
URL:https://business.saipanchamber.com/events/details/2023-october-general-membership-meeting-369
END:VEVENT

END:VCALENDAR
