BEGIN:VCALENDAR
VERSION:2.0
PRODID:-//ChamberMaster//Event Calendar 2.0//EN
METHOD:PUBLISH
X-PUBLISHED-TTL:P3D
REFRESH-INTERVAL:P3D
CALSCALE:GREGORIAN
BEGIN:VEVENT
DTSTART:20231101T013000Z
DTEND:20231101T033000Z
X-MICROSOFT-CDO-ALLDAYEVENT:FALSE
SUMMARY:2023 November General Membership Meeting
DESCRIPTION:We're excited to host the 2024-25 Board of Directors Elections. Your vote will shape the direction and leadership of our Chamber for the upcoming year. Let's make this GMM a defining moment for our Chamber's progress.\n\n \n\nStay in the loop with crucial Chamber Committee Updates by the committee chairs. Additionally\, show your support for the Armed Forces Committee (AFC) by purchasing raffle tickets at $2.00 each to help raise funds to support future plaque exchanges and initiatives under the AFC\, ensuring that we continue to honor our military personnel and veterans all while strengthening our community ties with the Armed Forces. Who knows\, you might just snag some amazing prizes!\n\n \n\nIn addition\, we have an insightful presentation by the CNMI Broadband Policy & Development Program to discuss the insights on the programs\, initiatives\, and developments. \n\n \n\nDon't miss this opportunity to stay informed about crucial industry developments!\n\n \n\nThank you\, Si Yu'us Ma' si' yan Ghilisow from your Chamber Familia!
X-ALT-DESC;FMTTYPE=text/html:<div class="mn-statusupdate-body" style="outline: 0px\; margin: 0px\; padding: 0px\; border: 0px\; vertical-align: baseline\; background-image: initial\; background-position: initial\; background-size: initial\; background-repeat: initial\; background-attachment: initial\; background-origin: initial\; background-clip: initial\;">\n<div class="mn-statusupdate-name" style="outline: 0px\; margin: 0px 0px 15px\; padding: 0px\; border: 0px\; vertical-align: baseline\; background: transparent\; overflow-wrap: break-word\;">\n<p style="margin: 0px\; padding: 0px\; color: rgb(73\, 73\, 73)\; font-family: Tahoma\, Geneva\, sans-serif\; font-size: 14px\;"><span style="font-size:16px\;"><span style="font-family:tahoma\;"><span style="color: rgb(0\, 0\, 0)\;">We&#39\;re excited to host the 2024-25 Board of Directors Elections. Your vote will shape the direction and leadership of our Chamber for the upcoming year. Let&#39\;s make this GMM a defining moment for our Chamber&#39\;s progress.</span></span></span></p>\n\n<p style="margin: 0px\; padding: 0px\; color: rgb(73\, 73\, 73)\; font-family: Tahoma\, Geneva\, sans-serif\; font-size: 14px\; white-space-collapse: preserve\;">&nbsp\;</p>\n\n<p style="margin: 0px\; padding: 0px\; color: rgb(73\, 73\, 73)\; font-family: Tahoma\, Geneva\, sans-serif\; font-size: 14px\; white-space-collapse: preserve\;"><span style="font-size:16px\;"><span style="font-family:tahoma\;"><span style="color: rgb(0\, 0\, 0)\;">Stay in the loop with crucial Chamber Committee Updates by the committee chairs. Additionally\, show your support for the Armed Forces Committee (AFC) by purchasing raffle tickets at </span><span style="font-weight: bold\; text-decoration-line: underline\; color: rgb(0\, 0\, 0)\;">$2.00 each</span><span style="color: rgb(0\, 0\, 0)\;"> to help raise funds to support future plaque exchanges and initiatives under the AFC\, ensuring that we continue to honor our military personnel and veterans all while strengthening our community ties with the Armed Forces. Who knows\, you might just snag some amazing prizes!</span></span></span></p>\n\n<p style="margin: 0px\; padding: 0px\; color: rgb(73\, 73\, 73)\; font-family: Tahoma\, Geneva\, sans-serif\; font-size: 14px\; white-space-collapse: preserve\;">&nbsp\;</p>\n\n<p style="margin: 0px\; padding: 0px\; color: rgb(73\, 73\, 73)\; font-family: Tahoma\, Geneva\, sans-serif\; font-size: 14px\; white-space-collapse: preserve\;"><span style="font-size:16px\;"><span style="font-family:tahoma\;"><span style="color: rgb(0\, 0\, 0)\;">In addition\, we have an insightful presentation by the CNMI Broadband Policy &amp\; Development Program to discuss the insights on the programs\, initiatives\, and developments. </span></span></span></p>\n\n<p style="margin: 0px\; padding: 0px\; color: rgb(73\, 73\, 73)\; font-family: Tahoma\, Geneva\, sans-serif\; font-size: 14px\; white-space-collapse: preserve\;">&nbsp\;</p>\n\n<p style="margin: 0px\; padding: 0px\; color: rgb(73\, 73\, 73)\; font-family: Tahoma\, Geneva\, sans-serif\; font-size: 14px\; white-space-collapse: preserve\;"><span style="font-size:16px\;"><span style="font-family:tahoma\;"><span style="color: rgb(0\, 0\, 0)\;">Don&#39\;t miss this opportunity to stay informed about crucial industry developments!</span></span></span></p>\n\n<p style="margin: 0px\; padding: 0px\; color: rgb(73\, 73\, 73)\; font-family: Tahoma\, Geneva\, sans-serif\; font-size: 14px\; white-space-collapse: preserve\;">&nbsp\;</p>\n\n<p style="margin: 0px\; padding: 0px\; color: rgb(73\, 73\, 73)\; font-family: Tahoma\, Geneva\, sans-serif\; font-size: 14px\; white-space-collapse: preserve\;"><span style="font-size:16px\;"><span style="font-family:tahoma\;"><span style="color: rgb(0\, 0\, 0)\;">Thank you\, Si Yu&rsquo\;us Ma&rsquo\;&aring\;si&#39\; yan Ghilisow from your Chamber Familia!</span></span></span></p>\n</div>\n</div>\n
LOCATION:Hyatt Regency Ballroom\, Hyatt Regency Saipan
UID:e.3549.376
SEQUENCE:3
DTSTAMP:20260424T065532Z
URL:https://business.saipanchamber.com/events/details/2023-november-general-membership-meeting-376
END:VEVENT

END:VCALENDAR
