BEGIN:VCALENDAR
VERSION:2.0
PRODID:-//ChamberMaster//Event Calendar 2.0//EN
METHOD:PUBLISH
X-PUBLISHED-TTL:P3D
REFRESH-INTERVAL:P3D
CALSCALE:GREGORIAN
BEGIN:VEVENT
DTSTART:20230705T013000Z
DTEND:20230705T033000Z
X-MICROSOFT-CDO-ALLDAYEVENT:FALSE
SUMMARY:2023 July General Membership Meeting
DESCRIPTION:Hafa Adai yan Tirow! We are excited to announce our upcoming July General Monthly Membership Meeting\, taking place on July 5\, 2023\, at the scenic Hyatt Regency Ballroom The doors will open at 11:30 AM\, and the meeting will commence promptly at 12:00 PM.\n\n\n\nOur spotlight presenter for the event will be IT&E\, a leading telecommunications company\, which will be sharing its latest cloud services for storage. This presentation will offer valuable insights into the benefits and advancements of cloud technology\, providing members with an opportunity to explore new solutions for their storage needs.\n\n\n\nAdditionally\, we are thrilled to welcome a special presenter from the CBMA office. They will be discussing Innovative Readiness Training (IRT)\, a Department of Defense (DoD) military training opportunity exclusive to the United States and its territories and the five medical missions happening in the CNMI next month. The presentation will highlight how the IRT program enhances deployment readiness\, the positive impact it will have\, and its upcoming training in the CNMI.\n\n\n\nFurthermore\, we are excited to introduce the Saipan Chamber of Commerce's new interns during this meeting. These talented individuals will be working with us for the next seven weeks as part of the SCC and PSS Career Exploration Internship Program. Their dedication and enthusiasm are sure to contribute significantly to the Chamber's initiatives\, and we encourage all members to extend a warm welcome to them.\n\n\n\nThis meeting presents a valuable opportunity to stay informed about industry developments\, network with fellow members\, and engage in meaningful discussions that shape the future of our business community.\n\n\n\nTo secure your spot and ensure you don't miss out on these vital updates\, we kindly request that you RSVP today. You can do so by clicking the link above or by contacting our office at (670) 234-7150. Alternatively\, you may send an email to contactus@saipanchamber.org. Our dedicated team is here to assist you with any questions or needs related to this event.\n\n\n\nThank you for your unwavering support and continued commitment to our Chamber. We look forward to seeing you at the meeting!\n\n\n\nJuly GMM Agenda
X-ALT-DESC;FMTTYPE=text/html:<div class="mn-statusupdate-body" style="outline: 0px\; margin: 0px\; padding: 0px\; border: 0px\; vertical-align: baseline\; background-image: initial\; background-position: initial\; background-size: initial\; background-repeat: initial\; background-attachment: initial\; background-origin: initial\; background-clip: initial\;">\n<div class="mn-statusupdate-name" style="outline: 0px\; margin: 0px 0px 15px\; padding: 0px\; border: 0px\; vertical-align: baseline\; background: transparent\; overflow-wrap: break-word\;">\n<p dir="ltr" style="line-height:1.38\;margin-top:0pt\;margin-bottom:0pt\;">Hafa Adai yan Tirow! We are excited to announce our upcoming July General Monthly Membership Meeting\, taking place on July 5\, 2023\, at the scenic Hyatt Regency Ballroom&nbsp\;The doors will open at 11:30 AM\, and the meeting will commence promptly at 12:00 PM.<br />\n<br />\nOur spotlight presenter for the event will be IT&amp\;E\, a leading telecommunications company\, which will be sharing its latest cloud services for storage. This presentation will offer valuable insights into the benefits and advancements of cloud technology\, providing members with an opportunity to explore new solutions for their storage needs.<br />\n<br />\nAdditionally\, we are thrilled to welcome a special presenter from the CBMA office. They will be discussing Innovative Readiness Training (IRT)\, a Department of Defense (DoD) military training opportunity exclusive to the United States and its territories and the five medical missions happening in the CNMI next month. The presentation will highlight how the IRT program enhances deployment readiness\, the positive impact it will have\, and its upcoming training in the CNMI.<br />\n<br />\nFurthermore\, we are excited to introduce the Saipan Chamber of Commerce&#39\;s new interns during this meeting. These talented individuals will be working with us for the next seven weeks as part of the SCC and PSS Career Exploration Internship Program. Their dedication and enthusiasm are sure to contribute significantly to the Chamber&#39\;s initiatives\, and we encourage all members to extend a warm welcome to them.<br />\n<br />\nThis meeting presents a valuable opportunity to stay informed about industry developments\, network with fellow members\, and engage in meaningful discussions that shape the future of our business community.<br />\n<br />\nTo secure your spot and ensure you don&#39\;t miss out on these vital updates\, we kindly request that you RSVP today. You can do so by clicking the link above&nbsp\;or by contacting our office at (670) 234-7150. Alternatively\, you may send an email to contactus@saipanchamber.org. Our dedicated team is here to assist you with any questions or needs related to this event.<br />\n<br />\nThank you for your unwavering support and continued commitment to our Chamber. We look forward to seeing you at the meeting!<br />\n<br />\n<a href="https://drive.google.com/file/d/1iXQTqL-hLTaggLMHlLFmHe9a0EvurlJB/view?usp=sharing"><span style="font-size:20px\;"><strong><em><u>July GMM Agenda&nbsp\;</u></em></strong></span></a></p>\n</div>\n</div>\n
LOCATION:Hyatt Regency Ballroom
UID:e.3549.366
SEQUENCE:3
DTSTAMP:20260421T084621Z
URL:https://business.saipanchamber.com/events/details/2023-july-general-membership-meeting-366
END:VEVENT

END:VCALENDAR
