BEGIN:VCALENDAR
VERSION:2.0
PRODID:-//ChamberMaster//Event Calendar 2.0//EN
METHOD:PUBLISH
X-PUBLISHED-TTL:P3D
REFRESH-INTERVAL:P3D
CALSCALE:GREGORIAN
BEGIN:VEVENT
DTSTART:20230802T013000Z
DTEND:20230802T033000Z
X-MICROSOFT-CDO-ALLDAYEVENT:FALSE
SUMMARY:2023 August General Membership Meeting
DESCRIPTION:Join us at the August General Membership Meeting on August 02\, 2023\, at the exquisite Hibiscus Hall\, Crowne Plaza Resort! All Chamber members and future members are warmly invited to this not-to-be-missed event! \n\n \n\nGain valuable insights and essential information for you and your business. This meeting promises to be an informative session that can help propel your success to new heights! Don't miss out on this incredible opportunity! \n\n \n\nReserve your seats today and secure your spot by RSVPing now! We look forward to seeing you there! \n\n\n\n\n\nAugust GMM Agenda
X-ALT-DESC;FMTTYPE=text/html:<div class="mn-statusupdate-body" style="outline: 0px\; margin: 0px\; padding: 0px\; border: 0px\; vertical-align: baseline\; background-image: initial\; background-position: initial\; background-size: initial\; background-repeat: initial\; background-attachment: initial\; background-origin: initial\; background-clip: initial\;">\n<div class="mn-statusupdate-name" style="outline: 0px\; margin: 0px 0px 15px\; padding: 0px\; border: 0px\; vertical-align: baseline\; background: transparent\; overflow-wrap: break-word\;">\n<p style="margin: 0px\; padding: 0px\; color: rgb(73\, 73\, 73)\; font-family: Tahoma\, Geneva\, sans-serif\; font-size: 14px\; white-space-collapse: preserve\; text-align: center\;"><span style="font-size:16px\;"><span style="font-family: &quot\;Century Gothic&quot\;\, Calibri\, Helvetica\, Arial\, sans-serif\;">Join us at the August General Membership Meeting on August 02\, 2023\, at the exquisite Hibiscus Hall\, Crowne Plaza Resort! All Chamber members and future members are warmly invited to this not-to-be-missed event! </span></span></p>\n\n<p style="margin: 0px\; padding: 0px\; color: rgb(73\, 73\, 73)\; font-family: Tahoma\, Geneva\, sans-serif\; font-size: 14px\; white-space-collapse: preserve\; text-align: center\;">&nbsp\;</p>\n\n<p style="margin: 0px\; padding: 0px\; color: rgb(73\, 73\, 73)\; font-family: Tahoma\, Geneva\, sans-serif\; font-size: 14px\; white-space-collapse: preserve\; text-align: center\;"><span style="font-size:16px\;"><span style="font-family: &quot\;Century Gothic&quot\;\, Calibri\, Helvetica\, Arial\, sans-serif\;">Gain valuable insights and essential information for you and your business. This meeting promises to be an informative session that can help propel your success to new heights! Don&#39\;t miss out on this incredible opportunity! </span></span></p>\n\n<p style="margin: 0px\; padding: 0px\; color: rgb(73\, 73\, 73)\; font-family: Tahoma\, Geneva\, sans-serif\; font-size: 14px\; white-space-collapse: preserve\; text-align: center\;">&nbsp\;</p>\n\n<p style="margin: 0px\; padding: 0px\; color: rgb(73\, 73\, 73)\; font-family: Tahoma\, Geneva\, sans-serif\; font-size: 14px\; white-space-collapse: preserve\; text-align: center\;"><span style="font-size:16px\;"><span style="font-family: &quot\;Century Gothic&quot\;\, Calibri\, Helvetica\, Arial\, sans-serif\;">Reserve your seats today and secure your spot by RSVPing now! We look forward to seeing you there! </span></span></p>\n\n<p dir="ltr" style="line-height:1.38\;margin-top:0pt\;margin-bottom:0pt\;"><br />\n<br />\n<a href="https://chambermaster.blob.core.windows.net/userfiles/UserFiles/chambers/3549/File/August3.pdf"><span style="font-size:20px\;"><strong><em><u>August GMM Agenda</u></em></strong></span></a></p>\n</div>\n</div>\n
LOCATION:Hibiscus Hall\, Crowne Plaza Resort Saipan
UID:e.3549.367
SEQUENCE:3
DTSTAMP:20260424T040258Z
URL:https://business.saipanchamber.com/events/details/2023-august-general-membership-meeting-367
END:VEVENT

END:VCALENDAR
