BEGIN:VCALENDAR
VERSION:2.0
PRODID:-//ChamberMaster//Event Calendar 2.0//EN
METHOD:PUBLISH
X-PUBLISHED-TTL:P3D
REFRESH-INTERVAL:P3D
CALSCALE:GREGORIAN
BEGIN:VEVENT
DTSTART:20240127T080000Z
DTEND:20240127T120000Z
X-MICROSOFT-CDO-ALLDAYEVENT:FALSE
SUMMARY:2023 Annual Business Person of the Year Gala
DESCRIPTION:Join us for an unforgettable evening of celebration and recognition at the 2023 Annual Business Person of the Year Gala and Board of Directors Installation. This year's theme\, "Hafa Adai yan Tirow\," embodies the spirit of our islands and progress that defines our vibrant business community.\n\n\n\nBe part of the excitement as we honor outstanding achievements in our business community. The following awards will be presented during the gala:\n\n\n\n- Chamber Member of the Year: Recognizing a dedicated and active member of the chamber who has made significant contributions to the business community.\n\n- Sustainable Business of the Year: Celebrating a company committed to environmentally-friendly practices and sustainable business operations.\n\n- Non-Profit of the Year: Honoring a non-profit organization that has demonstrated exceptional dedication to community service and impact.\n\n- Small Business of the Year: Acknowledging the achievements of a small business that has shown remarkable growth\, innovation\, and community involvement.\n\n- Business Person of the Year: Recognizing an individual who has demonstrated exceptional leadership\, innovation\, and impact on the business community.\n\n\n\nFor tickets and inquiries\, please call (670) 234-7150 or email contactus@saipanchamber.org.\n\n\n\nSecure your spot at Chamber's Signature Event of the Year and be part of an evening dedicated to honoring excellence and fostering a thriving business environment. We look forward to celebrating with you on this special night!
X-ALT-DESC;FMTTYPE=text/html:<span style="font-family:tahoma\;"><span style="font-size:14px\;">Join us for an unforgettable evening of celebration and recognition at the 2023 Annual Business Person of the Year Gala and Board of Directors Installation. This year&#39\;s theme\, &quot\;Hafa Adai yan Tirow\,&quot\; embodies the spirit of our islands and progress that defines our vibrant business community.<br />\n<br />\nBe part of the excitement as we honor outstanding achievements in our business community. The following awards will be presented during the gala:<br />\n<br />\n- <strong>Chamber Member of the Year:</strong> Recognizing a dedicated and active member of the chamber who has made significant contributions to the business community.<br />\n- <strong>Sustainable Business of the Year:</strong> Celebrating a company committed to environmentally-friendly practices and sustainable business operations.<br />\n- <strong>Non-Profit of the Year:</strong> Honoring a non-profit organization that has demonstrated exceptional dedication to community service and impact.<br />\n- <strong>Small Business of the Year:</strong> Acknowledging the achievements of a small business that has shown remarkable growth\, innovation\, and community involvement.<br />\n<span style="border: 0px solid rgb(217\, 217\, 227)\; box-sizing: border-box\; --tw-border-spacing-x: 0\; --tw-border-spacing-y: 0\; --tw-translate-x: 0\; --tw-translate-y: 0\; --tw-rotate: 0\; --tw-skew-x: 0\; --tw-skew-y: 0\; --tw-scale-x: 1\; --tw-scale-y: 1\; --tw-pan-x: \; --tw-pan-y: \; --tw-pinch-zoom: \; --tw-scroll-snap-strictness: proximity\; --tw-gradient-from-position: \; --tw-gradient-via-position: \; --tw-gradient-to-position: \; --tw-ordinal: \; --tw-slashed-zero: \; --tw-numeric-figure: \; --tw-numeric-spacing: \; --tw-numeric-fraction: \; --tw-ring-inset: \; --tw-ring-offset-width: 0px\; --tw-ring-offset-color: #fff\; --tw-ring-color: rgba(69\,89\,164\,.5)\; --tw-ring-offset-shadow: 0 0 transparent\; --tw-ring-shadow: 0 0 transparent\; --tw-shadow: 0 0 transparent\; --tw-shadow-colored: 0 0 transparent\; --tw-blur: \; --tw-brightness: \; --tw-contrast: \; --tw-grayscale: \; --tw-hue-rotate: \; --tw-invert: \; --tw-saturate: \; --tw-sepia: \; --tw-drop-shadow: \; --tw-backdrop-blur: \; --tw-backdrop-brightness: \; --tw-backdrop-contrast: \; --tw-backdrop-grayscale: \; --tw-backdrop-hue-rotate: \; --tw-backdrop-invert: \; --tw-backdrop-opacity: \; --tw-backdrop-saturate: \; --tw-backdrop-sepia: \; font-weight: 600\; color: var(--tw-prose-bold)\; white-space-collapse: preserve\;">- Business Person of the Year:</span><span style="color: rgb(55\, 65\, 81)\; white-space-collapse: preserve\;"> Recognizing an individual who has demonstrated exceptional leadership\, innovation\, and impact on the business community.</span><br />\n<br />\nFor tickets and inquiries\, please call (670) 234-7150 or email contactus@saipanchamber.org.<br />\n<br />\nSecure your spot at Chamber&#39\;s Signature Event of the Year and be part of an evening dedicated to honoring excellence and fostering a thriving business environment. We look forward to celebrating with you on this special night!</span></span>
LOCATION:Kensington Hall\, Kensington Hotel Saipan
UID:e.3549.355
SEQUENCE:3
DTSTAMP:20260424T083057Z
URL:https://business.saipanchamber.com/events/details/2023-annual-business-person-of-the-year-gala-355
END:VEVENT

END:VCALENDAR
