BEGIN:VCALENDAR
VERSION:2.0
PRODID:-//ChamberMaster//Event Calendar 2.0//EN
METHOD:PUBLISH
X-PUBLISHED-TTL:P3D
REFRESH-INTERVAL:P3D
CALSCALE:GREGORIAN
BEGIN:VEVENT
DTSTART:20220504T013000Z
DTEND:20220504T030000Z
X-MICROSOFT-CDO-ALLDAYEVENT:FALSE
SUMMARY:2022 May General Membership Meeting
DESCRIPTION:May 4th General Membership Meeting \n\n \n\n\nPresentations from...\n\n\n\nPacific Mini Games 2022:\n\n*CEO\, Vicente Babauta on current updates \n\n\n\nDepartment of Labor Building a Skilled Workforce:\n\n*Workforce Innovation Opportunity Act (WIOA) and Apprenticeship \n\n\n\nAGENDA
X-ALT-DESC;FMTTYPE=text/html:<div class="mn-statusupdate-body" style="outline: 0px\; margin: 0px\; padding: 0px\; border: 0px\; vertical-align: baseline\; background-image: initial\; background-position: initial\; background-size: initial\; background-repeat: initial\; background-attachment: initial\; background-origin: initial\; background-clip: initial\;">\n<div class="mn-statusupdate-name" style="outline: 0px\; margin: 0px 0px 15px\; padding: 0px\; border: 0px\; vertical-align: baseline\; background: transparent\; overflow-wrap: break-word\;">\n<div class="mn-statusupdate-secondaryname" style="color: rgb(66\, 66\, 66)\; font-family: Arial\, Helvetica\, sans-serif\; font-size: 9px\; outline: 0px\; margin: 5px 0px 0px\; padding: 0px\; border: 0px\; vertical-align: baseline\; background: transparent\; line-height: 1em\;"><span style="font-family:verdana\;"><span style="font-size:16px\;">May 4th General Membership Meeting&nbsp\;</span></span><br />\n&nbsp\;</div>\n<br />\n<span style="font-family:verdana\;"><span style="font-size:16px\;"><font color="#424242">Presentations from...</font></span><br />\n<br />\n<font color="#424242"><span style="font-size: 14px\;">Pacific Mini Games 2022:<br />\n*CEO\, Vicente Babauta on current updates&nbsp\;</span></font><br />\n<br />\n<span style="font-size:14px\;">Department of Labor Building a Skilled Workforce:<br />\n*Workforce Innovation Opportunity Act (WIOA) and Apprenticeship&nbsp\;<br />\n<br />\n<a href="https://chambermaster.blob.core.windows.net/userfiles/UserFiles/chambers/3549/File/MayGMM.pdf">AGENDA</a></span></span><br />\n<br />\n<br />\n<br />\n&nbsp\;\n<div style="color: rgb(66\, 66\, 66)\; font-family: Arial\, Helvetica\, sans-serif\; font-size: 12px\;"><br />\n<br />\n&nbsp\;</div>\n</div>\n</div>\n
LOCATION:Hyatt Regency Saipan\, Hyatt Regency Ballroom.
UID:e.3549.334
SEQUENCE:3
DTSTAMP:20260421T130927Z
URL:https://business.saipanchamber.com/events/details/2022-may-general-membership-meeting-334
END:VEVENT

END:VCALENDAR
