BEGIN:VCALENDAR
VERSION:2.0
PRODID:-//ChamberMaster//Event Calendar 2.0//EN
METHOD:PUBLISH
X-PUBLISHED-TTL:P3D
REFRESH-INTERVAL:P3D
CALSCALE:GREGORIAN
BEGIN:VEVENT
DTSTART:20220706T013000Z
DTEND:20220706T030000Z
X-MICROSOFT-CDO-ALLDAYEVENT:FALSE
SUMMARY:2022 July General Membership Meeting
DESCRIPTION:July 6th General Membership Meeting \n\n \n\n\nPresentations from...\n\n\n\nAlex Sablan & Matt Deleon Guerrero (GCEA)\n\n   * CNMI Workforce Development & Stabilization\n\n   * GCEA's Proposed CW1 Provisional Changes\n\n\n\nJuly GMM Agenda
X-ALT-DESC;FMTTYPE=text/html:<div class="mn-statusupdate-body" style="outline: 0px\; margin: 0px\; padding: 0px\; border: 0px\; vertical-align: baseline\; background-image: initial\; background-position: initial\; background-size: initial\; background-repeat: initial\; background-attachment: initial\; background-origin: initial\; background-clip: initial\;">\n<div class="mn-statusupdate-name" style="outline: 0px\; margin: 0px 0px 15px\; padding: 0px\; border: 0px\; vertical-align: baseline\; background: transparent\; overflow-wrap: break-word\;">\n<div class="mn-statusupdate-secondaryname" style="color: rgb(66\, 66\, 66)\; font-family: Arial\, Helvetica\, sans-serif\; font-size: 9px\; outline: 0px\; margin: 5px 0px 0px\; padding: 0px\; border: 0px\; vertical-align: baseline\; background: transparent\; line-height: 1em\;"><span style="font-family:verdana\;"><span style="font-size:16px\;">July&nbsp\;6th&nbsp\;General Membership Meeting&nbsp\;</span></span><br />\n&nbsp\;</div>\n<br />\n<span style="font-family:verdana\;"><span style="font-size:16px\;"><font color="#424242">Presentations from...</font></span></span><br />\n<br />\n<font color="#202124" face="arial\, sans-serif"><span style="font-size: 16px\;">Alex Sablan &amp\; Matt Deleon Guerrero (GCEA)</span></font><br />\n&nbsp\; &nbsp\;* CNMI Workforce Development &amp\; Stabilization<br />\n&nbsp\; &nbsp\;* GCEA&#39\;s Proposed CW1 Provisional Changes<br />\n<br />\n<a href="https://chambermaster.blob.core.windows.net/userfiles/UserFiles/chambers/3549/File/GMMAgenda.pdf"><span style="font-size:18px\;">July GMM Agenda</span></a><br />\n<br />\n<br />\n<br />\n<br />\n<br />\n&nbsp\;\n<div style="color: rgb(66\, 66\, 66)\; font-family: Arial\, Helvetica\, sans-serif\; font-size: 12px\;"><br />\n<br />\n&nbsp\;</div>\n</div>\n</div>\n
LOCATION:Queens Hall\, Kensington Saipan.
UID:e.3549.336
SEQUENCE:3
DTSTAMP:20260421T160411Z
URL:https://business.saipanchamber.com/events/details/2022-july-general-membership-meeting-336
END:VEVENT

END:VCALENDAR
