BEGIN:VCALENDAR
VERSION:2.0
PRODID:-//ChamberMaster//Event Calendar 2.0//EN
METHOD:PUBLISH
X-PUBLISHED-TTL:P3D
REFRESH-INTERVAL:P3D
CALSCALE:GREGORIAN
BEGIN:VEVENT
DTSTART:20220803T013000Z
DTEND:20220803T030000Z
X-MICROSOFT-CDO-ALLDAYEVENT:FALSE
SUMMARY:2022 August General Membership Meeting
DESCRIPTION:August 3rd General Membership Meeting \n\n \n\n\nPresentations from...\n\n\n\n500 Sails\n\n\n	Cultural Maritime Center\n\nPublic School System Cooperative Education Program\n\n\n	Building tomorrow's workforce \n\n \n\nAugust GMM Agenda
X-ALT-DESC;FMTTYPE=text/html:<div class="mn-statusupdate-body" style="outline: 0px\; margin: 0px\; padding: 0px\; border: 0px\; vertical-align: baseline\; background-image: initial\; background-position: initial\; background-size: initial\; background-repeat: initial\; background-attachment: initial\; background-origin: initial\; background-clip: initial\;">\n<div class="mn-statusupdate-name" style="outline: 0px\; margin: 0px 0px 15px\; padding: 0px\; border: 0px\; vertical-align: baseline\; background: transparent\; overflow-wrap: break-word\;">\n<div class="mn-statusupdate-secondaryname" style="color: rgb(66\, 66\, 66)\; font-family: Arial\, Helvetica\, sans-serif\; font-size: 9px\; outline: 0px\; margin: 5px 0px 0px\; padding: 0px\; border: 0px\; vertical-align: baseline\; background: transparent\; line-height: 1em\;"><span style="font-family:verdana\;"><span style="font-size:16px\;">August 3rd General Membership Meeting&nbsp\;</span></span><br />\n&nbsp\;</div>\n<br />\n<span style="font-family:verdana\;"><span style="font-size:16px\;"><font color="#424242">Presentations from...</font></span></span><br />\n<br />\n<font color="#202124" face="arial\, sans-serif"><span style="font-size: 16px\;">500 Sails</span></font>\n\n<ul>\n	<li><span style="font-size:14px\;">Cultural Maritime Center</span></li>\n</ul>\n<span style="font-size:16px\;">Public School System Cooperative Education Program</span>\n\n<ul>\n	<li><span style="font-size:14px\;">Building tomorrow&#39\;s workforce</span>&nbsp\;</li>\n</ul>\n&nbsp\;\n\n<div style="color: rgb(66\, 66\, 66)\; font-family: Arial\, Helvetica\, sans-serif\; font-size: 12px\;"><a href="https://chambermaster.blob.core.windows.net/userfiles/UserFiles/chambers/3549/File/2022GMMAgenda2.pdf"><span style="font-size:18px\;">August GMM Agenda&nbsp\;</span></a><br />\n<br />\n&nbsp\;</div>\n</div>\n</div>\n
LOCATION:Queens Hall\, Kensington Saipan.
UID:e.3549.337
SEQUENCE:3
DTSTAMP:20260421T184840Z
URL:https://business.saipanchamber.com/events/details/2022-august-general-membership-meeting-337
END:VEVENT

END:VCALENDAR
