BEGIN:VCALENDAR
VERSION:2.0
PRODID:-//ChamberMaster//Event Calendar 2.0//EN
METHOD:PUBLISH
X-PUBLISHED-TTL:P3D
REFRESH-INTERVAL:P3D
CALSCALE:GREGORIAN
BEGIN:VEVENT
DTSTART:20220406T013000Z
DTEND:20220406T030000Z
X-MICROSOFT-CDO-ALLDAYEVENT:FALSE
SUMMARY:2022 April General Membership Meeting
DESCRIPTION:April 6th General Membership Meeting \n\n \n\n\nPresentations from...\n\n\n\nSurfrider Resort Hotel \n\n- Spotlight: Learn about who they are and what they do!\n\n\n\nGovernor's Council of Economic Advisors \n\n- Presentation on the GCEA's 2021 Annual Report\, highlighting areas pertaining to business in the Marianas\, provide an overview of the economy\, and share opportunities in 2022.\n\n\n\n\n\nAGENDA
X-ALT-DESC;FMTTYPE=text/html:<div class="mn-statusupdate-body" style="outline: 0px\; margin: 0px\; padding: 0px\; border: 0px\; vertical-align: baseline\; background-image: initial\; background-position: initial\; background-size: initial\; background-repeat: initial\; background-attachment: initial\; background-origin: initial\; background-clip: initial\;">\n<div class="mn-statusupdate-name" style="outline: 0px\; margin: 0px 0px 15px\; padding: 0px\; border: 0px\; vertical-align: baseline\; background: transparent\; overflow-wrap: break-word\;">\n<div class="mn-statusupdate-secondaryname" style="color: rgb(66\, 66\, 66)\; font-family: Arial\, Helvetica\, sans-serif\; font-size: 9px\; outline: 0px\; margin: 5px 0px 0px\; padding: 0px\; border: 0px\; vertical-align: baseline\; background: transparent\; line-height: 1em\;"><span style="font-family:verdana\;"><span style="font-size:16px\;">April 6th General Membership Meeting&nbsp\;</span></span><br />\n&nbsp\;</div>\n<br />\n<span style="font-family:verdana\;"><span style="font-size:16px\;"><font color="#424242">Presentations from...</font></span><br />\n<br />\n<span style="color: rgb(66\, 66\, 66)\; font-size: 12px\;"><span style="font-size:14px\;">Surfrider Resort Hotel&nbsp\;</span><br />\n- <span style="font-size:14px\;">Spotlight:&nbsp\;Learn about who they are and what they do!</span></span><br />\n<br />\n<span style="font-size:14px\;">Governor&#39\;s Council of Economic Advisors&nbsp\;</span><br />\n<span style="font-size:14px\;">- Presentation on the GCEA&#39\;s&nbsp\;</span></span><span style="font-family:arial\,sans-serif\;"><span style="font-size:11.0pt\;">2021 Annual Report\, highlighting&nbsp\;areas pertaining to business in the Marianas\, provide an overview of the economy\, and share opportunities in 2022.</span></span><br />\n<br />\n<br />\n<a href="https://chambermaster.blob.core.windows.net/userfiles/UserFiles/chambers/3549/File/SaipanChamberofCommerceMarchGeneralMembershipMeetingWednesdayMarch220221130amHyattRegencyBallroomA.1200pmCalltoorderA.WelcomingremarksChamberPresid2.pdf">AGENDA</a>\n\n<div style="color: rgb(66\, 66\, 66)\; font-family: Arial\, Helvetica\, sans-serif\; font-size: 12px\;"><br />\n<br />\n&nbsp\;</div>\n</div>\n</div>\n
LOCATION:Hyatt Regency Saipan\, Hyatt Regency Ballroom.
UID:e.3549.333
SEQUENCE:3
DTSTAMP:20260421T113352Z
URL:https://business.saipanchamber.com/events/details/2022-april-general-membership-meeting-333
END:VEVENT

END:VCALENDAR
