BEGIN:VCALENDAR
VERSION:2.0
PRODID:-//ChamberMaster//Event Calendar 2.0//EN
METHOD:PUBLISH
X-PUBLISHED-TTL:P3D
REFRESH-INTERVAL:P3D
CALSCALE:GREGORIAN
BEGIN:VEVENT
DTSTART:20220129T073000Z
DTEND:20220129T010000Z
X-MICROSOFT-CDO-ALLDAYEVENT:FALSE
SUMMARY:2021 Business Person of the Year Gala
DESCRIPTION:The Saipan Chamber of Commerce will be announcing the prestigious award of Business Person of the Year in our annual gala slated for Saturday\, January 29\, 2022 at the Kensington Hotel- Kensington Hall.\n\n\n\nThis year's theme Cloaks & Tiaras!\n\n\n\nIn addition to the BPOY award\, the Chamber will also be presenting the 2021 Saipan Young Professional of the Year Award\, Non-Profit of the Year Award\, Small Business of the Year Award\, and Chamber Member of the Year Award.\n\nAnother highlight of the event will include the installation of the 2022-2023 Board of Directors.
X-ALT-DESC;FMTTYPE=text/html:<p style="margin: 0px 0px 20px\; padding: 0px\; border: 0px rgb(230\, 230\, 230)\; font-variant-numeric: inherit\; font-variant-east-asian: inherit\; font-stretch: inherit\; line-height: inherit\; vertical-align: baseline\; font-family: HelveticaNeue\, &quot\;Helvetica Neue&quot\;\, Arial\, Helvetica\, sans-serif\; color: rgb(0\, 0\, 0)\;">The Saipan Chamber of Commerce will be announcing the prestigious award of Business Person of the Year in our annual gala slated for Saturday\, January 29\, 2022&nbsp\;at the Kensington Hotel- Kensington&nbsp\;Hall.<br />\n<br />\nThis year&#39\;s theme Cloaks&nbsp\;&amp\; Tiaras!<br />\n<br />\nIn addition to the BPOY award\, the Chamber will also be presenting the 2021&nbsp\;Saipan Young Professional of the Year Award\, Non-Profit of the Year Award\,&nbsp\;Small Business of the Year Award\, and Chamber Member of the Year Award.</p>\n\n<p style="margin: 0px 0px 20px\; padding: 0px\; border: 0px rgb(230\, 230\, 230)\; font-variant-numeric: inherit\; font-variant-east-asian: inherit\; font-stretch: inherit\; line-height: inherit\; vertical-align: baseline\; font-family: HelveticaNeue\, &quot\;Helvetica Neue&quot\;\, Arial\, Helvetica\, sans-serif\; color: rgb(0\, 0\, 0)\;">Another highlight of the event will include the installation of the 2022-2023&nbsp\;Board of Directors.&nbsp\;</p>\n\n<p style="margin: 0px 0px 20px\; padding: 0px\; border: 0px rgb(230\, 230\, 230)\; font-variant-numeric: inherit\; font-variant-east-asian: inherit\; font-stretch: inherit\; line-height: inherit\; vertical-align: baseline\; font-family: HelveticaNeue\, &quot\;Helvetica Neue&quot\;\, Arial\, Helvetica\, sans-serif\; color: rgb(0\, 0\, 0)\;">&nbsp\;</p>\n
LOCATION:Kensington Hotel- Kensington Hall
UID:e.3549.330
SEQUENCE:3
DTSTAMP:20260421T060311Z
URL:https://business.saipanchamber.com/events/details/2021-business-person-of-the-year-gala-330
END:VEVENT

END:VCALENDAR
